BEGIN:VCALENDAR
VERSION:2.0
PRODID:-//Plavanimb.cz - ECPv4.6.10.1//NONSGML v1.0//EN
CALSCALE:GREGORIAN
METHOD:PUBLISH
X-WR-CALNAME:Plavanimb.cz
X-ORIGINAL-URL:https://www.plavanimb.cz
X-WR-CALDESC:Events for Plavanimb.cz
BEGIN:VEVENT
DTSTART;VALUE=DATE:20151128
DTEND;VALUE=DATE:20151129
DTSTAMP:20260421T105616
CREATED:20151013T142142Z
LAST-MODIFIED:20151125T114115Z
UID:4571-1448668800-1448755199@www.plavanimb.cz
SUMMARY:Zimní pohár Středočeského kraje žactva - Neratovice
DESCRIPTION:Krajáky mladšího žactva. \nDokumenty ke stažení: Přihlášení\, Přijatí \nInformace pro závodníky PO AŠMB\nZávod: Zimní Pohár Středočeského kraje žactva\nDatum: 28.11.2015\nMísto:  Plavecký bazén NERATOVICE\nDoprava: osobní automobily\nOdjezd: 28.11.2015\, městský bazén Mladá Boleslav-na Štěpánce\, v 7.00 hod.\nPříjezd: 28.11.2015\, městský bazén Mladá Boleslav-na Štěpánce\, cca v 19.00 – 20.00 hod.\nZajištění: startovné + doprava hradí PO AŠMB\nRozplavání: dopoledne v 8.30 – 9.20 hod./ odpoledne v 14.00 hod.\nZačátek závodů: dopoledne v 9.30 hod./ odpoledne v 14.30 hod.\nStravování: s sebou cca 150\,- Kč (společný oběd zajištěn)\nTrenér: L. Cibulková\nDoprovod: M. Tužil \n \n \n<\n \n
URL:https://www.plavanimb.cz/zavody/zimni-pohar-stredoceskeho-kraje-zactva-neratovice/
LOCATION:Mládežnická 435/13\, Neratovice\, 27711
CATEGORIES:Žactvo 10 let,Žactvo 11 let
ATTACH;FMTTYPE=image/jpeg:https://www.plavanimb.cz/wp-content/uploads/2015/10/neratovice_17.jpg
END:VEVENT
END:VCALENDAR