BEGIN:VCALENDAR
VERSION:2.0
PRODID:-//Plavanimb.cz - ECPv4.6.10.1//NONSGML v1.0//EN
CALSCALE:GREGORIAN
METHOD:PUBLISH
X-WR-CALNAME:Plavanimb.cz
X-ORIGINAL-URL:https://www.plavanimb.cz
X-WR-CALDESC:Events for Plavanimb.cz
BEGIN:VEVENT
DTSTART;TZID=UTC+0:20151205T080000
DTEND;TZID=UTC+0:20151206T170000
DTSTAMP:20260421T124322
CREATED:20151127T172441Z
LAST-MODIFIED:20151127T173305Z
UID:4875-1449302400-1449421200@www.plavanimb.cz
SUMMARY:Zimní MČR 12letých - Trutnov
DESCRIPTION:Dokumenty ke stažení: Přihlášení\, Přijatí \n \n
URL:https://www.plavanimb.cz/zavody/zimni-mcr-12letych/
LOCATION:Na Lukách\, Trutnov\, 541 01\, Czech Republic
CATEGORIES:Žactvo 12 let
ATTACH;FMTTYPE=image/jpeg:https://www.plavanimb.cz/wp-content/uploads/2015/11/trutnov-bazen.jpg
END:VEVENT
END:VCALENDAR