BEGIN:VCALENDAR
VERSION:2.0
PRODID:-//Plavanimb.cz - ECPv4.6.10.1//NONSGML v1.0//EN
CALSCALE:GREGORIAN
METHOD:PUBLISH
X-WR-CALNAME:Plavanimb.cz
X-ORIGINAL-URL:https://www.plavanimb.cz
X-WR-CALDESC:Events for Plavanimb.cz
BEGIN:VEVENT
DTSTART;TZID=UTC+0:20150516T080000
DTEND;TZID=UTC+0:20150517T170000
DTSTAMP:20260421T125453
CREATED:20150319T140801Z
LAST-MODIFIED:20150507T055509Z
UID:3220-1431763200-1431882000@www.plavanimb.cz
SUMMARY:XXXII. Mezinárodní mistrovství ČR v plavání Masters
DESCRIPTION:Vrchol sezóny pro všechny zkušené plavce. Nejednou došlo ke vzkříšení bývalých legend a jejich účasti na této plavecké “přehlídce veteránů”. Vedoucí akce: Jiří Janovský. Netradičně se akce koná v Třebíči. \n \n
URL:https://www.plavanimb.cz/zavody/xxxii-mezinarodni-mistrovstvi-cr-v-plavani-masters/
LOCATION:Mládežnická 1096\, Třebíč\, 674 01
CATEGORIES:Masters
ATTACH;FMTTYPE=image/jpeg:https://www.plavanimb.cz/wp-content/uploads/2015/03/trebic.jpg
ORGANIZER;CN="LaT%C5%99b":MAILTO:krcal@bazenlaguna.cz 
END:VEVENT
END:VCALENDAR