BEGIN:VCALENDAR
VERSION:2.0
PRODID:-//Plavanimb.cz - ECPv4.6.10.1//NONSGML v1.0//EN
CALSCALE:GREGORIAN
METHOD:PUBLISH
X-WR-CALNAME:Plavanimb.cz
X-ORIGINAL-URL:https://www.plavanimb.cz
X-WR-CALDESC:Events for Plavanimb.cz
BEGIN:VEVENT
DTSTART;VALUE=DATE:20151128
DTEND;VALUE=DATE:20151129
DTSTAMP:20260421T105616
CREATED:20151013T142559Z
LAST-MODIFIED:20151126T165549Z
UID:4573-1448668800-1448755199@www.plavanimb.cz
SUMMARY:Vinohradská veteraniáda
DESCRIPTION:Závody masters v pražských Vinohradech. Prezentace 12:30 až 13:45\, rozplavní od 14:00\, závody od 14:30. \nSoubory ke stažení: Propozice\, Přihlášení \nPřihlášení se na disciplíny zde. \n20151128-Vinohrady-prihlaska \n \n \n \n
URL:https://www.plavanimb.cz/zavody/vinohradska-veteraniada/
LOCATION:POLSKÁ 2400/1a\, Praha\, 12000\, Czech Republic
CATEGORIES:Dospělí,Masters
ATTACH;FMTTYPE=image/jpeg:https://www.plavanimb.cz/wp-content/uploads/2015/10/vinohrady.jpg
ORGANIZER;CN="TJ%20Bohemians%20Praha%20-%20odd%C3%ADl%20plav%C3%A1n%C3%AD":MAILTO:jan.srb@czechswimming.cz
END:VEVENT
END:VCALENDAR