BEGIN:VCALENDAR
VERSION:2.0
PRODID:-//Plavanimb.cz - ECPv4.6.10.1//NONSGML v1.0//EN
CALSCALE:GREGORIAN
METHOD:PUBLISH
X-WR-CALNAME:Plavanimb.cz
X-ORIGINAL-URL:https://www.plavanimb.cz
X-WR-CALDESC:Events for Plavanimb.cz
BEGIN:VEVENT
DTSTART;VALUE=DATE:20221105
DTEND;VALUE=DATE:20221106
DTSTAMP:20260420T112325
CREATED:20220921T101542Z
LAST-MODIFIED:20221107T115546Z
UID:10997-1667606400-1667692799@www.plavanimb.cz
SUMMARY:Středočeský pohár nejmladšího žactva - 5. kolo - Mladá Boleslav (2013 a mladší)
DESCRIPTION:Výsledky: Kompletní výsledky \nDokumenty ke stažení: Informace \n
URL:https://www.plavanimb.cz/zavody/stredocesky-pohar-nejmladsiho-zactva-5-kolo-2013-a-mladsi/
LOCATION:Na Celně\, Mladá Boleslav\, 29301\, Czech Republic
CATEGORIES:Žactvo 9 let a mladší
ATTACH;FMTTYPE=image/jpeg:https://www.plavanimb.cz/wp-content/uploads/2019/08/46468141_1938636006218970_5426167209665757184_o.jpg
ORGANIZER;CN="Auto%C5%A1koda%20Mlad%C3%A1%20Boleslav":MAILTO:denny.cz@seznam.cz
END:VEVENT
END:VCALENDAR