BEGIN:VCALENDAR
VERSION:2.0
PRODID:-//Plavanimb.cz - ECPv4.6.10.1//NONSGML v1.0//EN
CALSCALE:GREGORIAN
METHOD:PUBLISH
X-WR-CALNAME:Plavanimb.cz
X-ORIGINAL-URL:https://www.plavanimb.cz
X-WR-CALDESC:Events for Plavanimb.cz
BEGIN:VEVENT
DTSTART;TZID=UTC+0:20150529T080000
DTEND;TZID=UTC+0:20150531T170000
DTSTAMP:20260421T110007
CREATED:20150216T112302Z
LAST-MODIFIED:20150528T202005Z
UID:2822-1432886400-1433091600@www.plavanimb.cz
SUMMARY:Praha 2015 - 5. kolo ČP
DESCRIPTION:Nejprestižnější open závod letní sezóny povětšinou i s mezinárodní účastí. Pro mnohé stěžejní ke kvalifikaci na MČR. Vedoucí akce: Jiří Janovský\, Radek Šitera. Odjezd v pátek v 10:45 od bazénu. \nSoubory ke stažení: přihlášení\, informace\, přijatí\, pokyny\, přijatí\, startovní listina\,  \n \n \n
URL:https://www.plavanimb.cz/zavody/praha-2015-5-kolo-cp/
LOCATION:Podolská 74\, Praha\, Czech Republic
CATEGORIES:Dospělí,Masters,Mladší dorost,Starší dorost
ATTACH;FMTTYPE=image/jpeg:https://www.plavanimb.cz/wp-content/uploads/2015/02/podoli.jpg
END:VEVENT
END:VCALENDAR