BEGIN:VCALENDAR
VERSION:2.0
PRODID:-//Plavanimb.cz - ECPv4.6.10.1//NONSGML v1.0//EN
CALSCALE:GREGORIAN
METHOD:PUBLISH
X-WR-CALNAME:Plavanimb.cz
X-ORIGINAL-URL:https://www.plavanimb.cz
X-WR-CALDESC:Events for Plavanimb.cz
BEGIN:VEVENT
DTSTART;TZID=UTC+0:20150516T080000
DTEND;TZID=UTC+0:20150516T170000
DTSTAMP:20260423T104621
CREATED:20150319T140156Z
LAST-MODIFIED:20150513T084728Z
UID:3217-1431763200-1431795600@www.plavanimb.cz
SUMMARY:Malá cena Nymburka - 3. kolo SPNŽ
DESCRIPTION:Poslední kolo Středočeského poháru nejmladšího žactva v Kutné Hoře. Vedoucí akce: p. Vernerová. Pozor odjezd je už v 6:30 místo 6:45\, jak je uvedeno níže!!! Vezměte si sebou podsedák. \n \n \n
URL:https://www.plavanimb.cz/zavody/mala-cena-nymburka-3-kolo-spnz/
LOCATION:Boleslavská tř. 319/11\, Nymburk\, Czech Republic
CATEGORIES:Žactvo 10 let
ATTACH;FMTTYPE=image/jpeg:https://www.plavanimb.cz/wp-content/uploads/2015/03/kutnahora.jpg
END:VEVENT
END:VCALENDAR