BEGIN:VCALENDAR
VERSION:2.0
PRODID:-//Plavanimb.cz - ECPv4.6.10.1//NONSGML v1.0//EN
CALSCALE:GREGORIAN
METHOD:PUBLISH
X-WR-CALNAME:Plavanimb.cz
X-ORIGINAL-URL:https://www.plavanimb.cz
X-WR-CALDESC:Events for Plavanimb.cz
BEGIN:VEVENT
DTSTART;TZID=UTC+0:20150523T080000
DTEND;TZID=UTC+0:20150524T170000
DTSTAMP:20260421T110006
CREATED:20150319T130853Z
LAST-MODIFIED:20150522T100138Z
UID:3201-1432368000-1432486800@www.plavanimb.cz
SUMMARY:Letní přebor Středočeského kraje žactva - Příbram
DESCRIPTION:Krajský přebor staršího žactva\, tentokrát v Příbrami. Vedoucími akce jsou: Zdeněk Novák\, Martin Tužil.\nPro sestavení startovní listiny s doplněnými náhradníky jsou oddíly povinny potvrdit svou účast a jednotlivé starty svých závodníků nejpozději v pátek 22.5. 2015\, resp. 20.11. 2015 do 19\,00 hod. na tel. čísle 737 884 985\, příp e-mailem na adrese:cirnfusss@seznam.cz \nSoubory ke stažení: přihlášení\, přijatí\, informace \n \n \n \n \n \n
URL:https://www.plavanimb.cz/zavody/letni-prebor-stredoceskeho-kraje-zactva-pribram/
LOCATION:Legionářů 378\, Příbram\, 26102\, Czech Republic
CATEGORIES:Žactvo 12 let,Žactvo 13 let,Žactvo 14 let
ATTACH;FMTTYPE=image/jpeg:https://www.plavanimb.cz/wp-content/uploads/2015/02/pribram.jpg
END:VEVENT
END:VCALENDAR